


BEGIN:VCALENDAR
VERSION:2.0
PRODID:-//Liverpool Astronomical Society - ECPv6.15.15//NONSGML v1.0//EN
CALSCALE:GREGORIAN
METHOD:PUBLISH
X-ORIGINAL-URL:https://liverpoolas.org
X-WR-CALDESC:Events for Liverpool Astronomical Society
REFRESH-INTERVAL;VALUE=DURATION:PT1H
X-Robots-Tag:noindex
X-PUBLISHED-TTL:PT1H
BEGIN:VTIMEZONE
TZID:Europe/London
BEGIN:DAYLIGHT
TZOFFSETFROM:+0000
TZOFFSETTO:+0100
TZNAME:BST
DTSTART:20240331T010000
END:DAYLIGHT
BEGIN:STANDARD
TZOFFSETFROM:+0100
TZOFFSETTO:+0000
TZNAME:GMT
DTSTART:20241027T010000
END:STANDARD
BEGIN:DAYLIGHT
TZOFFSETFROM:+0000
TZOFFSETTO:+0100
TZNAME:BST
DTSTART:20250330T010000
END:DAYLIGHT
BEGIN:STANDARD
TZOFFSETFROM:+0100
TZOFFSETTO:+0000
TZNAME:GMT
DTSTART:20251026T010000
END:STANDARD
BEGIN:DAYLIGHT
TZOFFSETFROM:+0000
TZOFFSETTO:+0100
TZNAME:BST
DTSTART:20260329T010000
END:DAYLIGHT
BEGIN:STANDARD
TZOFFSETFROM:+0100
TZOFFSETTO:+0000
TZNAME:GMT
DTSTART:20261025T010000
END:STANDARD
END:VTIMEZONE
BEGIN:VEVENT
DTSTART;TZID=Europe/London:20250221T190000
DTEND;TZID=Europe/London:20250221T212000
DTSTAMP:20260423T070559
CREATED:20240808T223025Z
LAST-MODIFIED:20250123T163136Z
UID:13161-1740164400-1740172800@liverpoolas.org
SUMMARY:Monthly Meeting: Dr. Steve Barrett - "Cosmic Rays"
DESCRIPTION:The February 2025 monthly meeting of Liverpool Astronomical Society for the 2024-2025 session will be held on Friday\, February 21st from 19:00 to 21:20. \n\n\n\n\n\nAbout This Meeting\n\n\n\nPlease note that this meeting’s running order will be slightly altered from the usual\, with the lecture taking place from 19:00 and Society Business after the tea-break. Please try to arrive on time or you may miss the beginning of a very interesting talk. \n\n\n\n19:00 – 20:30 – Meeting opens\, and lecture begins promptly\, followed by Q&A and Vote of Thanks20:30 – 20:50 – Tea break in the communal area followed by raffle in the meeting room.20:50 – 21:20 – Society Business\, followed by Meeting Close. \n\n\n\nOur guest speaker this month is Dr. Steve Barrett\, Senior Research Fellow at the Department of Physics\, and Principal Scientist at the Surface Science Research Centre\, both in the University of Liverpool. \n\n\n\nThe title of his talk is: \n\n\n\n\nCosmic Rays \n\n\n\n\nMembers of the public are welcome to attend (for free)\, but please consider joining our Society if you attend more than two monthly meetings. \n\n\n\nQ-Park Car Parking Discount\n\n\n\nFor those of you travelling into the city centre by car\, don’t forget that you can get 20% off parking at Q-Park Hanover Street by using the promo-code QUAKERSLV when pre-booking through the website Q-Park \n\n\n\n\n\n\n\n\nLivestream & Recording Information\n\n\n\nThis meeting will be held at our normal venue of the Quaker Meeting House\, and may be live-streamed via YouTube\, if I get the equipment set up in time 😊 \n\n\n\n\n\n\n\n\n\n\n\n\n\n\n\nA recording may be available. \n\n\n\n\n\n\nSubscription Info \n\n\n\nIf you have not yet become a Member of the Society and wish to join\, please see our Membership of the Liverpool Astronomical Society page before sending any payment. \n\n\n\n\n\n\n\nNote: Membership Fees are correct as of October 2025 \n\n\n\nMembership TypePriceAdults (18 & above) Annual Subscription£25.00Juniors (14-17 inclusive) Annual Subscription£5.00\n\n\n\nPlease note:Subscriptions are due from 1st October each year and must be paid by January 31st or your membership may be suspended.If not paid by 31st March your membership will cease. \n\n\n\nPaying your Subscription Electronically (e.g. via e-banking)\n\n\n\nYou can now pay for your subscription via Internet banking.  \n\n\n\nName:Liverpool Astronomical SocietySort Code:60-19-24Account No.:28521250Payment Ref.:Use your full name (or as much of it as possible\, remove spaces if needed) as the reference\, so that our Treasurer can connect your payment to the correct account in the books.\n\n\n\nPlease contact the Treasurer if you require more information. \n\n\n\n\n\n\n\n\nMore information about membership can be found here. \n\n\n\nThe LAS e-newsletter is now included in your normal subscription cost. \n\n\n\n\n\n\n\nFree tea/coffee with light refreshments break will form part of the evening at about 8pm. \n\n\n\nPlease note – Doors will only open after 18:00 and not before. \n\n\n\n\n\n\n\nI do hope you can join me and your fellow members\, but if you are unable to attend\, please indicate your apologies to me by filling out this form. \n\n\n\nWith best wishes – Mark
URL:https://liverpoolas.org/event/monthly-meeting-dr-steve-barrett-cosmic-rays/
LOCATION:The Quaker Meeting House in Liverpool City Centre\, The Quaker Meeting House\, 22 School Lane\, Liverpool\, Merseyside\, L1 3BT\, United Kingdom
CATEGORIES:Free Events,Lectures and Talks,Monthly Meetings,Public Events
ATTACH;FMTTYPE=image/jpeg:https://liverpoolas.org/wp-content/uploads/2024/08/LAS-2025-02-21-Dr-Steve-Barrett-Cosmic-Rays.jpg
END:VEVENT
END:VCALENDAR