


BEGIN:VCALENDAR
VERSION:2.0
PRODID:-//Liverpool Astronomical Society - ECPv6.15.15//NONSGML v1.0//EN
CALSCALE:GREGORIAN
METHOD:PUBLISH
X-WR-CALNAME:Liverpool Astronomical Society
X-ORIGINAL-URL:https://liverpoolas.org
X-WR-CALDESC:Events for Liverpool Astronomical Society
REFRESH-INTERVAL;VALUE=DURATION:PT1H
X-Robots-Tag:noindex
X-PUBLISHED-TTL:PT1H
BEGIN:VTIMEZONE
TZID:Europe/London
BEGIN:DAYLIGHT
TZOFFSETFROM:+0000
TZOFFSETTO:+0100
TZNAME:BST
DTSTART:20240331T010000
END:DAYLIGHT
BEGIN:STANDARD
TZOFFSETFROM:+0100
TZOFFSETTO:+0000
TZNAME:GMT
DTSTART:20241027T010000
END:STANDARD
BEGIN:DAYLIGHT
TZOFFSETFROM:+0000
TZOFFSETTO:+0100
TZNAME:BST
DTSTART:20250330T010000
END:DAYLIGHT
BEGIN:STANDARD
TZOFFSETFROM:+0100
TZOFFSETTO:+0000
TZNAME:GMT
DTSTART:20251026T010000
END:STANDARD
BEGIN:DAYLIGHT
TZOFFSETFROM:+0000
TZOFFSETTO:+0100
TZNAME:BST
DTSTART:20260329T010000
END:DAYLIGHT
BEGIN:STANDARD
TZOFFSETFROM:+0100
TZOFFSETTO:+0000
TZNAME:GMT
DTSTART:20261025T010000
END:STANDARD
END:VTIMEZONE
BEGIN:VEVENT
DTSTART;TZID=Europe/London:20250321T190000
DTEND;TZID=Europe/London:20250321T210000
DTSTAMP:20260423T054726
CREATED:20240808T220228Z
LAST-MODIFIED:20250303T171507Z
UID:13167-1742583600-1742590800@liverpoolas.org
SUMMARY:Monthly Meeting: Dr. Graham Beamson\, FRSC - "Backyard Spectroscopy"
DESCRIPTION:Members of the public are welcome to attend (for free)\, but please consider joining our Society if you attend more than two monthly meetings. \n\n\n\n\n\nThe March 2025 monthly meeting of Liverpool Astronomical Society for the 2024-2025 session will be held on Friday\, March 21st from 19:00 to 21:00. \n\n\n\nAbout This Meeting\n\n\n\nOur guest speaker for March 2025 is Dr. Graham Beamson\, FRSC. \n\n\n\nGraham did his first degree in chemistry at the University of Oxford and stayed on to do a DPhil in ultraviolet photoelectron spectroscopy. He then worked at the University of Durham in infrared and Raman and in x-ray absorption spectroscopy\, and at ICI and Daresbury Laboratory in x-ray photoelectron spectroscopy. He has over 100 publications to his name\, and is now retired and lives in Cheshire. As a retirement project he did an Open University degree in geology and astronomy. He has a rolling roof observatory with several telescopes and spectrographs. \n\n\n\nThe title of Graham’s talk will be: \n\n\n\n\nBackyard Spectroscopy \n\n\n\n\n“It is over 200 years since Fraunhofer developed his spectroscope\, and since then spectroscopy has grown to be of fundamental importance in astronomy. This talk will describe some of my own activities in amateur astronomical spectroscopy\, in particular using a Sol’Ex – Star’Ex spectrograph. In Sol’Ex configuration this functions as a spectroheliograph\, recording images of the Sun at a defined wavelength. In Star’Ex mode it functions as a high resolution spectrograph for night-time observations. Examples will be shown of solar images and spectra of stars.” \n\n\n\n \n\n\n\nQ-Park Car Parking Discount\n\n\n\nFor those of you travelling into the city centre by car\, don’t forget that you can get 20% off parking at Q-Park Hanover Street by using the promo-code QUAKERSLV when pre-booking through the website Q-Park
URL:https://liverpoolas.org/event/monthly-meeting-dr-graham-beamson-frsc-backyard-spectroscopy/
LOCATION:The Quaker Meeting House in Liverpool City Centre\, The Quaker Meeting House\, 22 School Lane\, Liverpool\, Merseyside\, L1 3BT\, United Kingdom
CATEGORIES:All Events,Free Events,LAS Meetings,Lectures and Talks,Monthly Meetings,Public Events
ATTACH;FMTTYPE=image/jpeg:https://liverpoolas.org/wp-content/uploads/2024/08/2025-03-21-LAS-Monthly-Meeting-Dr-Graham-Beamson-FRAS-Backyard-Spectroscopy-1.jpg
END:VEVENT
END:VCALENDAR