


BEGIN:VCALENDAR
VERSION:2.0
PRODID:-//Liverpool Astronomical Society - ECPv6.15.15//NONSGML v1.0//EN
CALSCALE:GREGORIAN
METHOD:PUBLISH
X-WR-CALNAME:Liverpool Astronomical Society
X-ORIGINAL-URL:https://liverpoolas.org
X-WR-CALDESC:Events for Liverpool Astronomical Society
REFRESH-INTERVAL;VALUE=DURATION:PT1H
X-Robots-Tag:noindex
X-PUBLISHED-TTL:PT1H
BEGIN:VTIMEZONE
TZID:Europe/London
BEGIN:DAYLIGHT
TZOFFSETFROM:+0000
TZOFFSETTO:+0100
TZNAME:BST
DTSTART:20240331T010000
END:DAYLIGHT
BEGIN:STANDARD
TZOFFSETFROM:+0100
TZOFFSETTO:+0000
TZNAME:GMT
DTSTART:20241027T010000
END:STANDARD
BEGIN:DAYLIGHT
TZOFFSETFROM:+0000
TZOFFSETTO:+0100
TZNAME:BST
DTSTART:20250330T010000
END:DAYLIGHT
BEGIN:STANDARD
TZOFFSETFROM:+0100
TZOFFSETTO:+0000
TZNAME:GMT
DTSTART:20251026T010000
END:STANDARD
BEGIN:DAYLIGHT
TZOFFSETFROM:+0000
TZOFFSETTO:+0100
TZNAME:BST
DTSTART:20260329T010000
END:DAYLIGHT
BEGIN:STANDARD
TZOFFSETFROM:+0100
TZOFFSETTO:+0000
TZNAME:GMT
DTSTART:20261025T010000
END:STANDARD
END:VTIMEZONE
BEGIN:VEVENT
DTSTART;TZID=Europe/London:20250425T190000
DTEND;TZID=Europe/London:20250425T210000
DTSTAMP:20260423T043104
CREATED:20240808T220228Z
LAST-MODIFIED:20250402T181122Z
UID:13169-1745607600-1745614800@liverpoolas.org
SUMMARY:Monthly Meeting: Dr. Julian Onions - "Crazy Interstellar Rockets!"
DESCRIPTION:About This Meeting\n\n\n\nOur guest speaker for April 2025 is Dr. Julian Onions\, of the University of Nottingham\, and he will be giving us a talk about: \n\n\n\n\nCrazy Interstellar Rockets! \n\n\n\n\nWhat sort of rockets or spaceships could we use to go to the distant stars? We will explore some of the crazier designs that have been proposed over the years\, most of which have some possibility of working? The future may be nearer than we think!
URL:https://liverpoolas.org/event/monthly-meeting-dr-julian-onions-crazy-interstellar-rockets/
LOCATION:The Quaker Meeting House in Liverpool City Centre\, The Quaker Meeting House\, 22 School Lane\, Liverpool\, Merseyside\, L1 3BT\, United Kingdom
CATEGORIES:LAS Meetings,Lectures and Talks,Monthly Meetings
ATTACH;FMTTYPE=image/jpeg:https://liverpoolas.org/wp-content/uploads/2024/08/2025-04-25-Dr-Julian-Onions-PhD-Crazy-Interstellar-Rockets.jpg
END:VEVENT
END:VCALENDAR