


BEGIN:VCALENDAR
VERSION:2.0
PRODID:-//Liverpool Astronomical Society - ECPv6.15.15//NONSGML v1.0//EN
CALSCALE:GREGORIAN
METHOD:PUBLISH
X-ORIGINAL-URL:https://liverpoolas.org
X-WR-CALDESC:Events for Liverpool Astronomical Society
REFRESH-INTERVAL;VALUE=DURATION:PT1H
X-Robots-Tag:noindex
X-PUBLISHED-TTL:PT1H
BEGIN:VTIMEZONE
TZID:Europe/London
BEGIN:DAYLIGHT
TZOFFSETFROM:+0000
TZOFFSETTO:+0100
TZNAME:BST
DTSTART:20100328T010000
END:DAYLIGHT
BEGIN:STANDARD
TZOFFSETFROM:+0100
TZOFFSETTO:+0000
TZNAME:GMT
DTSTART:20101031T010000
END:STANDARD
BEGIN:DAYLIGHT
TZOFFSETFROM:+0000
TZOFFSETTO:+0100
TZNAME:BST
DTSTART:20110327T010000
END:DAYLIGHT
BEGIN:STANDARD
TZOFFSETFROM:+0100
TZOFFSETTO:+0000
TZNAME:GMT
DTSTART:20111030T010000
END:STANDARD
BEGIN:DAYLIGHT
TZOFFSETFROM:+0000
TZOFFSETTO:+0100
TZNAME:BST
DTSTART:20120325T010000
END:DAYLIGHT
BEGIN:STANDARD
TZOFFSETFROM:+0100
TZOFFSETTO:+0000
TZNAME:GMT
DTSTART:20121028T010000
END:STANDARD
BEGIN:DAYLIGHT
TZOFFSETFROM:+0000
TZOFFSETTO:+0100
TZNAME:BST
DTSTART:20130331T010000
END:DAYLIGHT
BEGIN:STANDARD
TZOFFSETFROM:+0100
TZOFFSETTO:+0000
TZNAME:GMT
DTSTART:20131027T010000
END:STANDARD
BEGIN:DAYLIGHT
TZOFFSETFROM:+0000
TZOFFSETTO:+0100
TZNAME:BST
DTSTART:20140330T010000
END:DAYLIGHT
BEGIN:STANDARD
TZOFFSETFROM:+0100
TZOFFSETTO:+0000
TZNAME:GMT
DTSTART:20141026T010000
END:STANDARD
BEGIN:DAYLIGHT
TZOFFSETFROM:+0000
TZOFFSETTO:+0100
TZNAME:BST
DTSTART:20150329T010000
END:DAYLIGHT
BEGIN:STANDARD
TZOFFSETFROM:+0100
TZOFFSETTO:+0000
TZNAME:GMT
DTSTART:20151025T010000
END:STANDARD
END:VTIMEZONE
BEGIN:VEVENT
DTSTART;TZID=Europe/London:20141024T183000
DTEND;TZID=Europe/London:20141024T210000
DTSTAMP:20260423T043302
CREATED:20140226T152931Z
LAST-MODIFIED:20220514T041738Z
UID:6231-1414175400-1414184400@liverpoolas.org
SUMMARY:Monthly Meeting\, Friday 24th October 2014
DESCRIPTION:The October 2014 (William Lassell Lecture) monthly meeting of Liverpool Astronomical Society for session 2014-15\, will take place on Friday\, October 24th 2014 from 7pm.\nPlease note that this is the 4th Friday of the month.\n \n\nOur Guest speaker this month is Mr. Douglas Arnold of the Astrophysics Research Institute at Liverpool John Moores University who will speak on the subject of \n“Polarimetry in Astronomy\, Past\, Present & Future”\nSubscriptions for 2014-15\n \nPlease note that the LAS e-newsletter is now included in your normal subscription cost\nAdult Annual Subscription is  £15.00\nJunior Members Subscription (10 to 17yrs)  is £5.00 \n\nPlease note – Doors will only open after 6pm. \nI do hope you can join me and your fellow members next Friday evening\, but if you are unable to attend\, please indicate your apologies to me by filling out this form.\nWith best wishes – Gerard \n 
URL:https://liverpoolas.org/event/monthly-meeting-friday-24th-october-2014/
LOCATION:The Quaker Meeting House in Liverpool City Centre\, The Quaker Meeting House\, 22 School Lane\, Liverpool\, Merseyside\, L1 3BT\, United Kingdom
CATEGORIES:All Events,LAS Meetings,Lectures and Talks,Monthly Meetings
END:VEVENT
BEGIN:VEVENT
DTSTART;TZID=Europe/London:20140919T183000
DTEND;TZID=Europe/London:20140919T210000
DTSTAMP:20260423T043302
CREATED:20140226T152931Z
LAST-MODIFIED:20220514T041738Z
UID:6105-1411151400-1411160400@liverpoolas.org
SUMMARY:Monthly Meeting\, Friday 19th September 2014
DESCRIPTION:The September 2014 monthly meeting of Liverpool Astronomical Society for session 2014-15\, will take place on Friday\, September 19th 2014 from 7pm.\n \n\nOur speaker this month is Mr. Rob Johnson with the Presidential Address\, and a talk entitled: \n“Telescope Improvements”\nAdult Annual Subscription is  £15.00\nJunior Members Subscription (10 to 17yrs)  is £5.00 \nWe’re happy to announce that the LAS Newsletter is no longer a separate subscription item\, and is available electronically to all LAS members as part of their yearly subscription \n\nPlease note – Doors will only open after 6pm. \nI do hope you can join me and your fellow members for this meeting\, but if you are unable to attend\, please indicate your apologies to me by filling out this form.\nWith best wishes – Gerard
URL:https://liverpoolas.org/event/monthly-meeting-friday-19th-september-2014/
LOCATION:The Quaker Meeting House in Liverpool City Centre\, The Quaker Meeting House\, 22 School Lane\, Liverpool\, Merseyside\, L1 3BT\, United Kingdom
CATEGORIES:All Events,LAS Meetings,Lectures and Talks,Monthly Meetings
END:VEVENT
BEGIN:VEVENT
DTSTART;TZID=Europe/London:20140411T183000
DTEND;TZID=Europe/London:20140411T210000
DTSTAMP:20260423T043302
CREATED:20140226T152931Z
LAST-MODIFIED:20220514T041739Z
UID:5902-1397241000-1397250000@liverpoolas.org
SUMMARY:Monthly Meeting\, Friday 11th April 2014
DESCRIPTION:The April 2014 monthly meeting of Liverpool Astronomical Society for session 2013-14\, will take place on Friday\, April 11th 2014 from 7pm.\nPlease note that this is the 2nd Friday of the month due to the Easter Bank Holiday.\n \n\nOur Guest speaker this month is Dr. Katherine Joy of The University of Manchester\,  who will speak on the subject of \n“The Geology of the Moon”\nTo those who are yet to renew Subscriptions 2013-14 \, remember that the yearly subscriptions to the society membership are now extremely over due! \nAdult Annual Subscription   is  £15.00\nLAS Newsletter subscription is £5 for 12 issues (optional)\nJunior Members Subscription (10 to 17yrs)  is £5.00 \n\nPlease note – Doors will only open after 6pm. \nI do hope you can join me and your fellow members next Friday evening\, but if you are unable to attend\, please indicate your apologies to me by filling out this form.\nWith best wishes – Gerard \n 
URL:https://liverpoolas.org/event/monthly-meeting-friday-11th-april-2014/
LOCATION:The Quaker Meeting House in Liverpool City Centre\, The Quaker Meeting House\, 22 School Lane\, Liverpool\, Merseyside\, L1 3BT\, United Kingdom
CATEGORIES:All Events,LAS Meetings,Lectures and Talks,Monthly Meetings
END:VEVENT
BEGIN:VEVENT
DTSTART;TZID=Europe/London:20140321T183000
DTEND;TZID=Europe/London:20140321T210000
DTSTAMP:20260423T043302
CREATED:20140226T152931Z
LAST-MODIFIED:20220514T041739Z
UID:5808-1395426600-1395435600@liverpoolas.org
SUMMARY:Monthly Meeting\, Friday 21st March 2014
DESCRIPTION:The March 2014 monthly meeting of Liverpool Astronomical Society for session 2013-14\, will take place on Friday\, March 21st 2014 from 7pm. \n\nOur Guest speaker this month is Mr Barry Pemberton of Orion Optics\,  who will speak on the subject of \n“Telescope Optics”\nTo those who are yet to renew Subscriptions 2013-14 \, remember that the yearly subscriptions to the society membership are now over due! \nAdult Annual Subscription   is  £15.00\nLAS Newsletter subscription is £5 for 12 issues (optional)\nJunior Members Subscription (10 to 17yrs)  is £5.00 \n\nPlease note – Doors will only open after 6pm. \nI do hope you can join me and your fellow members next Friday evening\, but if you are unable to attend\, please indicate your apologies to me by filling out this form.\nWith best wishes – Gerard \n 
URL:https://liverpoolas.org/event/monthly-meeting-friday-21st-march-2014/
LOCATION:The Quaker Meeting House in Liverpool City Centre\, The Quaker Meeting House\, 22 School Lane\, Liverpool\, Merseyside\, L1 3BT\, United Kingdom
CATEGORIES:All Events,LAS Meetings,Lectures and Talks,Monthly Meetings
END:VEVENT
BEGIN:VEVENT
DTSTART;TZID=Europe/London:20140221T183000
DTEND;TZID=Europe/London:20140221T210000
DTSTAMP:20260423T043302
CREATED:20140220T070831Z
LAST-MODIFIED:20220514T041739Z
UID:5823-1393007400-1393016400@liverpoolas.org
SUMMARY:Monthly Meeting\, Friday 21st February 2014
DESCRIPTION:The February 2014 monthly meeting of Liverpool Astronomical Society for session 2013-14\, will take place on Friday\, February 21st 2014 from 7pm. \n\nOur Guest speaker this month is Ms Wendy Simkiss\, Earth and Physical Science Curator from the World Museum Liverpool\, who will speak on the subject of \n“Meteorites”\nTo those who are yet to renew Subscriptions 2013-14 \, remember that the yearly subscriptions to the society membership are now over due! \nAdult Annual Subscription   is  £15.00\nLAS Newsletter subscription is £5 for 12 issues (optional)\nJunior Members Subscription (10 to 17yrs)  is £5.00 \n  \n\nPlease note – Doors will only open after 6pm.\nThe refurbishment of the QMH meeting venue main entrance is now completed\, and the main door is  in use again.\n \nI do hope you can join me and your fellow members next Friday evening\, but if you are unable to attend\, please indicate your apologies to me by filling out this form.\nWith best wishes – Gerard \n 
URL:https://liverpoolas.org/event/monthly-meeting-friday-21st-february-2014/
LOCATION:The Quaker Meeting House in Liverpool City Centre\, The Quaker Meeting House\, 22 School Lane\, Liverpool\, Merseyside\, L1 3BT\, United Kingdom
CATEGORIES:All Events,LAS Meetings,Lectures and Talks,Monthly Meetings
END:VEVENT
BEGIN:VEVENT
DTSTART;TZID=Europe/London:20140117T183000
DTEND;TZID=Europe/London:20140117T210000
DTSTAMP:20260423T043302
CREATED:20140107T070831Z
LAST-MODIFIED:20220514T041739Z
UID:5904-1389983400-1389992400@liverpoolas.org
SUMMARY:Monthly Meeting\, Friday 17th January 2014
DESCRIPTION:The January 2014 monthly meeting of Liverpool Astronomical Society for session 2013-14\, will take place on Friday\, January 17th 2014 from 7pm. \n\nOur Guest speaker this month is Mr Martin Lunn MBE FRAS\, who will speak on the subject of \n“King Charles’ Star –  Supernova Cassiopeia A”\nSyllabus/membership cards for 2013-14 will also be made available if you have not collected one already. \nPlease also remember that the yearly subscriptions to the society membership are due and need to be paid by January 31st 2014 \nAdult Annual Subscription   is  £15.00\nLAS Newsletter subscription is £5 for 12 issues (optional)\nJunior Members Subscription (10 to 17yrs)  is £5.00 \n\nPlease note – Doors will only open after 6pm.\nThe refurbishment of the QMH meeting venue main entrance is now completed\, and the main door is  in use again.\n \nI do hope you can join me and your fellow members next Friday evening\, but if you are unable to attend\, please indicate your apologies to me by filling out this form.\nWith best wishes – Gerard \n 
URL:https://liverpoolas.org/event/monthly-meeting-friday-17th-january-2014/
LOCATION:The Quaker Meeting House in Liverpool City Centre\, The Quaker Meeting House\, 22 School Lane\, Liverpool\, Merseyside\, L1 3BT\, United Kingdom
CATEGORIES:All Events,LAS Meetings,Lectures and Talks,Monthly Meetings
END:VEVENT
BEGIN:VEVENT
DTSTART;TZID=Europe/London:20131115T190000
DTEND;TZID=Europe/London:20131115T213000
DTSTAMP:20260423T043302
CREATED:20131111T120828Z
LAST-MODIFIED:20220514T041739Z
UID:5625-1384542000-1384551000@liverpoolas.org
SUMMARY:Monthly Meeting: Friday 15th November 2013
DESCRIPTION:The November 2013 monthly meeting of Liverpool Astronomical Society for session 2013-14\, will take place on Friday\, November 15th 2013 from 7pm. \n\nOur Guest speaker this month is Dr Mark Hadley from AstraZeneca UK and Macclesfield AS who will speak on the subject of \n“The Use of Chirality in the Search for Extraterrestrial Life”\n(The November 2013 issue of BBC Sky at Night Magazine has a good article on the subject to help supplement the lecture) \nSyllabus/membership cards for 2013-14 will also be made available if you have not collected one already. \nPlease also remember that the yearly subscriptions to the society membership were due on October 1st 2013 \nAdult Annual Subscription   is  £15.00\nLAS Newsletter subscription is £5 for 12 issues (optional)\nJunior Members Subscription (10 to 17yrs)  is £5.00 \n\nThe venue is:\nThe Quaker Meeting House\,22 School Lane\,Liverpool City Centre\,L1 3BT\nPlease note – Doors will only open after 6pm.\nThe refurbishment of the QMH meeting venue main entrance is now completed\, and the main door is  in use again. \nI do hope you can join me and your fellow members next Friday evening\, but if you are unable to attend\, please indicate your apologies to me by filling out this form.\nWith best wishes – Gerard
URL:https://liverpoolas.org/event/monthly-meeting-friday-15th-november-2013/
LOCATION:The Quaker Meeting House in Liverpool City Centre\, The Quaker Meeting House\, 22 School Lane\, Liverpool\, Merseyside\, L1 3BT\, United Kingdom
CATEGORIES:All Events,Lectures and Talks,Monthly Meetings
END:VEVENT
BEGIN:VEVENT
DTSTART;TZID=Europe/London:20130920T190000
DTEND;TZID=Europe/London:20130920T213000
DTSTAMP:20260423T043302
CREATED:20130915T092458Z
LAST-MODIFIED:20220514T041739Z
UID:5522-1379703600-1379712600@liverpoolas.org
SUMMARY:Monthly Meeting\, Friday\, September 20th 2013
DESCRIPTION:Long hot summer days are behind us and maybe clean\, dark\, cold winter nights are ahead :-) \n\nThe first monthly meeting of Liverpool Astronomical Society for session 2013-14\, will take place on Friday\, September 20th 2013 from 7pm. The venue is the Quaker Meeting House\, 22 School Lane\, Liverpool City Centre. Doors will only open after 6pm. \nPlease note that due to refurbishment of the QMH meeting venue main entrance\,  we are required to use another door way\, which is indicated on the attached image\, (kindly provided by Chris Banks). This blue doorway is just a short distance from the normal entrance to the building on School Lane\, by the large grey gates\, but it will also be sign posted on the night.\n \n \nThe main event this month is the Presidential Address to be given by newly elected Mr Rob Johnson on the subject of “Rockets to the Moon & Back“. The Lecture will be followed by a welcome reception\, which this year will consist of free tea/coffee with light refreshments\, to thank the members for help freely given in the last year\, and to look forward to the year ahead\, the 132nd year of Society meetings and events. It will also be a great opportunity to welcome new members who have joined over the summer. Syllabus/membership cards for 2013-14 will also be made available. \n\n\nPlease also remember that the yearly subscriptions to the society membership are due on October 1st. \n\n\nAdult Annual Subscription is  £15.00\nLAS Newsletter subscription is £5 for 12 issues (optional)\nJunior Members Subscription (10 to 17yrs)  is £5.00 \n\n\nI do hope you can join me and your fellow members on Friday evening\, but if you are unable to attend\, please indicate your apologies by contacting me via the form here: http://liverpoolas.org/contact-us/contact-the-las-secretary/
URL:https://liverpoolas.org/event/monthly-meeting-friday-september-20th-2013/
LOCATION:The Quaker Meeting House in Liverpool City Centre\, The Quaker Meeting House\, 22 School Lane\, Liverpool\, Merseyside\, L1 3BT\, United Kingdom
CATEGORIES:All Events,LAS Meetings,Lectures and Talks,Monthly Meetings
END:VEVENT
BEGIN:VEVENT
DTSTART;TZID=Europe/London:20130419T190000
DTEND;TZID=Europe/London:20130419T213000
DTSTAMP:20260423T043302
CREATED:20130328T210215Z
LAST-MODIFIED:20220514T041739Z
UID:4455-1366398000-1366407000@liverpoolas.org
SUMMARY:April 2013 Monthly Meeting: Change to Syllabus - Friday\, 19th April 2013
DESCRIPTION:The next monthly meeting of Liverpool Astronomical Society is to be held at 7pm on Friday April 19th\, at the QMH\, 22 School Lane\, Liverpool City Centre. \nSadly I have to report that the speaker for the April Meeting Prof Maurizio Salaris\, has had to change his plans\, and attend a research meeting outside of the UK\, so will not be able to be the Society guest on April 19th. \nHowever\, a Preston historian\, Mr Steve Halliwell\, has agreed to step in at relatively short notice\, and will speak on Mr Moses Holden – A history talk I know\, but with a Liverpool connection – see below: \nHOLDEN\, MOSES (1777–1864)\, astronomer\, was born at Bolton\, Lancashire\, on 21 Nov. 1777. As a youth he worked in a foundry at Preston\, until disabled by an accident. On his recovery he occupied himself first as a landscape gardener\, then as a weaver. Early in life he possessed a strong love of astronomy\, and he collected a library that was remarkable for one in his station. In 1814–15 he constructed a large orrery and an ingenious magic-lantern. These were made for the purpose of illustrating his astronomical lectures\, which were first given in the Theatre Royal\, Preston\, in 1815\, and afterwards in many towns in the north of England. In 1818 he published ‘A small Celestial Atlas\, or Maps of the Visible Heavens\, in the Latitude of Britain\,’ 3rd edit. 1834\, 4th edit. 1840. It was one of the earliest works of the kind published at a low price. He also compiled an almanac\, published in 1835 and later. In 1826 he devoted the proceeds of one of his lectures to the erection of a monument in St. Michael’s Church\, Toxteth\, Liverpool\, to the memory of Jeremiah Horrocks the astronomer. He assisted in establishing the Preston Institution for the Diffusion of Knowledge\, and in 1834 the freedom of the borough was conferred on him. He died at Preston on 3 June 1864\, aged 86. \nI do hope you can join us for a very interesting meeting\, but if you are unable to attend\, please forward your apologies to either myself or direct to David Forshaw. \n\n\n\nDate\nVenue\nGuest speaker\nSubject & Title\n\n\n\n\nFriday April 19th\, 2013\n\nThe Quaker Meeting House\,22 School Lane\,Liverpool City Centre\,L1 3BT\nMr Steve Halliwell\nMr Moses Holden 1777-1864\, Gardener\, Weaver and Astronomer\n\n\n\n 
URL:https://liverpoolas.org/event/change-to-syllabus-friday-19th-april-2013/
LOCATION:The Quaker Meeting House in Liverpool City Centre\, The Quaker Meeting House\, 22 School Lane\, Liverpool\, Merseyside\, L1 3BT\, United Kingdom
CATEGORIES:All Events,LAS Meetings,Lectures and Talks,Monthly Meetings
END:VEVENT
BEGIN:VEVENT
DTSTART;TZID=Europe/London:20120619T190000
DTEND;TZID=Europe/London:20120619T213000
DTSTAMP:20260423T043302
CREATED:20120503T213928Z
LAST-MODIFIED:20220514T041739Z
UID:233-1340132400-1340141400@liverpoolas.org
SUMMARY:Special Monthly Meeting\, Tuesday June 19th 2012
DESCRIPTION:There will be an extra meeting this year\, to be held Tuesday 19th June 2012.\nDr Valerie Connaughton from the University of Alabama\, USA has kindly agreed to come and talk to the LAS whilst she is over in the UK.\nThe Talk is entitled “The Fermi Gamma-Ray Space Telescope: Construction\, Launch\, and Observer of Gamma-Ray Bursts” \nClick to enlarge
URL:https://liverpoolas.org/event/special-monthly-meeting-tuesday-june-19th-2012/
LOCATION:The Quaker Meeting House in Liverpool City Centre\, The Quaker Meeting House\, 22 School Lane\, Liverpool\, Merseyside\, L1 3BT\, United Kingdom
CATEGORIES:All Events,LAS Meetings,Monthly Meetings,Special Events
END:VEVENT
BEGIN:VEVENT
DTSTART;TZID=Europe/London:20110318T190000
DTEND;TZID=Europe/London:20110318T213000
DTSTAMP:20260423T043302
CREATED:20110309T193508Z
LAST-MODIFIED:20170216T173511Z
UID:193-1300474800-1300483800@liverpoolas.org
SUMMARY:Change to Syllabus for Friday March 18th\, 2011
DESCRIPTION:Due to commitments with regard the BBC Sky at Night programme\, Mr Paul Abel is unable to keep his long standing invitation to speak to the Society on Friday March 18th\, 2011. \nHis place has been taken by Dr Steve Barrett  Department of Physics\, University of Liverpool\, who is to talk on “How Stars Tick – Stellar Evolution for Non-Astrophysicists”. I wish to place on record my thanks to Dr Barrett for stepping in at very short notice.
URL:https://liverpoolas.org/event/change-to-syllabus-for-friday-march-18th-2011/
LOCATION:The Quaker Meeting House in Liverpool City Centre\, The Quaker Meeting House\, 22 School Lane\, Liverpool\, Merseyside\, L1 3BT\, United Kingdom
CATEGORIES:All Events,LAS Meetings,Lectures and Talks,Monthly Meetings
END:VEVENT
END:VCALENDAR