


BEGIN:VCALENDAR
VERSION:2.0
PRODID:-//Liverpool Astronomical Society - ECPv6.15.15//NONSGML v1.0//EN
CALSCALE:GREGORIAN
METHOD:PUBLISH
X-ORIGINAL-URL:https://liverpoolas.org
X-WR-CALDESC:Events for Liverpool Astronomical Society
REFRESH-INTERVAL;VALUE=DURATION:PT1H
X-Robots-Tag:noindex
X-PUBLISHED-TTL:PT1H
BEGIN:VTIMEZONE
TZID:Europe/London
BEGIN:DAYLIGHT
TZOFFSETFROM:+0000
TZOFFSETTO:+0100
TZNAME:BST
DTSTART:20250330T010000
END:DAYLIGHT
BEGIN:STANDARD
TZOFFSETFROM:+0100
TZOFFSETTO:+0000
TZNAME:GMT
DTSTART:20251026T010000
END:STANDARD
BEGIN:DAYLIGHT
TZOFFSETFROM:+0000
TZOFFSETTO:+0100
TZNAME:BST
DTSTART:20260329T010000
END:DAYLIGHT
BEGIN:STANDARD
TZOFFSETFROM:+0100
TZOFFSETTO:+0000
TZNAME:GMT
DTSTART:20261025T010000
END:STANDARD
BEGIN:DAYLIGHT
TZOFFSETFROM:+0000
TZOFFSETTO:+0100
TZNAME:BST
DTSTART:20270328T010000
END:DAYLIGHT
BEGIN:STANDARD
TZOFFSETFROM:+0100
TZOFFSETTO:+0000
TZNAME:GMT
DTSTART:20271031T010000
END:STANDARD
END:VTIMEZONE
BEGIN:VEVENT
DTSTART;TZID=Europe/London:20260220T190000
DTEND;TZID=Europe/London:20260220T210000
DTSTAMP:20260423T094211
CREATED:20250916T142712Z
LAST-MODIFIED:20250916T150000Z
UID:14166-1771614000-1771621200@liverpoolas.org
SUMMARY:Monthly Meeting: - Mr. Russell Parry - "Moon Trees"
DESCRIPTION:The February 2026 monthly meeting of Liverpool Astronomical Society for the 2025-2026 session will be held on Friday\, 20th February  from 19:00 to 21:00. \n\n\n\n\n\nMembers of the public are welcome to attend (for free)\, but please consider joining our Society if you attend more than two monthly meetings. Donations are always welcome but are not required. \n\n\n\n\n\n\n\nAbout This Meeting\n\n\n\n19:00 – 19:20 – Meeting opens with Society business19:20 – 20:00 – Lecture20:00 – 20:20 – Tea break in the communal area followed by raffle in the meeting room.20:20 – 21:00 – Lecture continued followed by Q&A and the Vote of Thanks. \n\n\n\nOur guest speaker this month is Mr. Russell ParryThe title of his talk is “Moon Trees” \n\n\n\nFrom Wikipedia \n\n\n\n\nMoon trees are trees grown from seeds taken into orbit around the Moon\, initially by Apollo 14 in 1971\, and later by Artemis I in 2022.[1] The idea was first proposed by Edward P. Cliff\, then the Chief of the United States Forest Service\, who convinced Stuart Roosa\, the Command Module Pilot on the Apollo 14 mission\, to bring a small canister containing about 500 seeds aboard the module in 1971. Seeds for the experiment were chosen from five species of tree: loblolly pine\, sycamore\, sweetgum\, redwood\, and Douglas fir.[2][3] In 2022\, NASA announced it would be reviving the Moon tree program by carrying 1\,000 seeds aboard Artemis I.[4] \n\n\n\n\n \n\n\n\n \n\n\n\n\n\n\n\nQ-Park Car Parking Discount\n\n\n\nFor those of you travelling into the city centre by car\, don’t forget that you can get 20% off parking at Q-Park Hanover Street by using the promo-code QUAKERSLV when pre-booking through the website Q-Park \n\n\n\n\n\n\n\n\nLivestream & Recording Information\n\n\n\nThis meeting will be held at our normal venue of the Quaker Meeting House\, and may be live-streamed via YouTube\, if I get the equipment set up in time 😊 \n\n\n\n\n\n\n\n\n\n\n\n\n\n\n\nA recording may be available. \n\n\n\n\n\n\nSubscription Info \n\n\n\nIf you have not yet become a Member of the Society and wish to join\, please see our Membership of the Liverpool Astronomical Society page before sending any payment. \n\n\n\n\n\n\n\nNote: Membership Fees are correct as of October 2025 \n\n\n\nMembership TypePriceAdults (18 & above) Annual Subscription£25.00Juniors (14-17 inclusive) Annual Subscription£5.00\n\n\n\nPlease note:Subscriptions are due from 1st October each year and must be paid by January 31st or your membership may be suspended.If not paid by 31st March your membership will cease. \n\n\n\nPaying your Subscription Electronically (e.g. via e-banking)\n\n\n\nYou can now pay for your subscription via Internet banking.  \n\n\n\nName:Liverpool Astronomical SocietySort Code:60-19-24Account No.:28521250Payment Ref.:Use your full name (or as much of it as possible\, remove spaces if needed) as the reference\, so that our Treasurer can connect your payment to the correct account in the books.\n\n\n\nPlease contact the Treasurer if you require more information. \n\n\n\n\n\n\n\n\nMore information about membership can be found here. \n\n\n\nThe LAS e-newsletter is now included in your normal subscription cost. \n\n\n\n\n\n\n\nFree tea/coffee with light refreshments break will form part of the evening at about 8pm. \n\n\n\nPlease note – Doors will only open after 18:30 and not before. \n\n\n\n\n\n\n\nI do hope you can join me and your fellow members\, but if you are unable to attend\, please indicate your apologies to me by filling out this form. \n\n\n\nWith best wishes – Mark
URL:https://liverpoolas.org/event/monthly-meeting-mr-russell-parry-moon-trees/
LOCATION:The Quaker Meeting House in Liverpool City Centre\, The Quaker Meeting House\, 22 School Lane\, Liverpool\, Merseyside\, L1 3BT\, United Kingdom
CATEGORIES:Free Events,Lectures and Talks,Monthly Meetings,Public Events
END:VEVENT
BEGIN:VEVENT
DTSTART;TZID=Europe/London:20260221T190000
DTEND;TZID=Europe/London:20260221T210000
DTSTAMP:20260423T094211
CREATED:20251110T211206Z
LAST-MODIFIED:20251110T211208Z
UID:14351-1771700400-1771707600@liverpoolas.org
SUMMARY:Wirral Star Party: Saturday 21st February 2026
DESCRIPTION:Liverpool Astronomical Society with Wirral Ranger ServicesInvite you to a February Star Party21st February 2026 from 7pm to 9pmatWirral Country ParkThurstaston Visitor CentreStation Road\, CH61 0HN0151 648 4371 / 3884wcp@wirral.gov.uk \nCome and be inspired by the wonders of the night skyView craters on the Moon \nThe planet Jupiter and Uranus \nGalaxies and deep sky objectsThere will be talks about astronomyTelescopes outside to look through (weather permitting)Experienced amateur astronomers on hand to give advice and guidance \nAll free
URL:https://liverpoolas.org/event/wirral-star-party-saturday-21st-february-2026/
LOCATION:Wirral Country Park & Visitors Centre\, Wirral Country Park & Visitors Centre\, Station Road\, Thurstaston\, Wirral\, CH61 0HN\, United Kingdom
CATEGORIES:All Events,Free Events,Open Days and Evenings,Public Events,Sidewalk Astronomy,Star Parties
END:VEVENT
BEGIN:VEVENT
DTSTART;TZID=Europe/London:20260226T183000
DTEND;TZID=Europe/London:20260226T203000
DTSTAMP:20260423T094211
CREATED:20250916T105657Z
LAST-MODIFIED:20260213T100749Z
UID:14227-1772130600-1772137800@liverpoolas.org
SUMMARY:Young Astronomers' Club [Rescheduled from 12th Feb '26]
DESCRIPTION:Please note that this was due to take place on Thursday\, 12th February 2026 but had to be moved due to unscheduled building work.Thank you for your patience. \n \nOur popular Young Astronomers’ Club returns this month. \n \nThe topic for the evening will be ‘The Planets’ (if clear) / Life on other planets (if cloudy) \n \n\n\n\n \nDepending on the weather\, hopefully there will also be some practical astronomy outside.
URL:https://liverpoolas.org/event/young-astronomers-club-24/
LOCATION:The Leighton Observatory at Pex Hill\, Pex Hill\, Cronton\, Widnes\, Cheshire\, WA8 5QW\, United Kingdom
CATEGORIES:Young Astronomers' Events
END:VEVENT
END:VCALENDAR